BEGIN:VCALENDAR
VERSION:2.0
PRODID:-//Suriname Insider - ECPv6.15.20//NONSGML v1.0//EN
CALSCALE:GREGORIAN
METHOD:PUBLISH
X-ORIGINAL-URL:https://surinameinsider.com
X-WR-CALDESC:Events for Suriname Insider
REFRESH-INTERVAL;VALUE=DURATION:PT1H
X-Robots-Tag:noindex
X-PUBLISHED-TTL:PT1H
BEGIN:VTIMEZONE
TZID:America/New_York
BEGIN:DAYLIGHT
TZOFFSETFROM:-0500
TZOFFSETTO:-0400
TZNAME:EDT
DTSTART:20110313T070000
END:DAYLIGHT
BEGIN:STANDARD
TZOFFSETFROM:-0400
TZOFFSETTO:-0500
TZNAME:EST
DTSTART:20111106T060000
END:STANDARD
BEGIN:DAYLIGHT
TZOFFSETFROM:-0500
TZOFFSETTO:-0400
TZNAME:EDT
DTSTART:20120311T070000
END:DAYLIGHT
BEGIN:STANDARD
TZOFFSETFROM:-0400
TZOFFSETTO:-0500
TZNAME:EST
DTSTART:20121104T060000
END:STANDARD
BEGIN:DAYLIGHT
TZOFFSETFROM:-0500
TZOFFSETTO:-0400
TZNAME:EDT
DTSTART:20130310T070000
END:DAYLIGHT
BEGIN:STANDARD
TZOFFSETFROM:-0400
TZOFFSETTO:-0500
TZNAME:EST
DTSTART:20131103T060000
END:STANDARD
END:VTIMEZONE
BEGIN:VEVENT
DTSTART;TZID=America/New_York:20120315T190000
DTEND;TZID=America/New_York:20120315T200059
DTSTAMP:20260419T225422
CREATED:20120313T175450Z
LAST-MODIFIED:20120313T175450Z
UID:574-1331838000-1331841659@surinameinsider.com
SUMMARY:Movie Night @CCS
DESCRIPTION:Watch “Norma Rae” this Thursday in celebration of Women’s History Month.  The movie night\, organized by the U.S. Embassy in Paramaribo\, is free and open to the public.
URL:https://surinameinsider.com/event/movie-night-ccs/
LOCATION:CCS\, Henck Arronstraat 112-114\, Paramaribo - Downtown\, Suriname
END:VEVENT
BEGIN:VEVENT
DTSTART;VALUE=DATE:20120308
DTEND;VALUE=DATE:20120310
DTSTAMP:20260419T225422
CREATED:20120223T182120Z
LAST-MODIFIED:20120226T141037Z
UID:271-1331164800-1331337599@surinameinsider.com
SUMMARY:Caricom Meeting in Suriname
DESCRIPTION:An Inter-Sessional Meeting of the Caricom is scheduled to take place in Suriname on March 8th and 9th.  That’s what the waterkant’s makeover and the moving of the flags is for. \nThe 15 heads of states from the Caribbean Community will meet to discuss how the Caricom Enterprises\, a mechanism that combines all natural resources\, will effectively be implemented – Times of Suriname \nA couple of non-Caricom countries are also visiting and rumor has it that the presidents of Chile and Autralia may also be in Suriname.
URL:https://surinameinsider.com/event/caricom-meeting-in-suriname/
LOCATION:United States
END:VEVENT
BEGIN:VEVENT
DTSTART;VALUE=DATE:20120308
DTEND;VALUE=DATE:20120309
DTSTAMP:20260419T225422
CREATED:20120301T223711Z
LAST-MODIFIED:20120307T154543Z
UID:443-1331164800-1331251199@surinameinsider.com
SUMMARY:Pink Ribbon walk for breast cancer/International Women's Day
DESCRIPTION:The Pink Ribbon walk for breast cancer will commence at the “onafhankelijheidsplein” (the Independence Square across from the Presidential Palace) at 4pm on Thursday\, March 8th. Participants are asked to contribute 15 SRD towards the cause. T-shirts may be available at the event location (included in the 15 SRD contribution); however\, it is advised to purchase them in advance. T-shirts are available at several locations\, some of which include: Dojo\, B-Fit\, and Lekker.  For more T-shirt locations and information\, please visit the pink ribbon website.
URL:https://surinameinsider.com/event/avon-walk-for-cancerinternational-womens-day/
END:VEVENT
BEGIN:VEVENT
DTSTART;VALUE=DATE:20120308
DTEND;VALUE=DATE:20120309
DTSTAMP:20260419T225422
CREATED:20120228T185726Z
LAST-MODIFIED:20120228T185726Z
UID:398-1331164800-1331164800@surinameinsider.com
SUMMARY:Holi Phagwa* National Holiday
DESCRIPTION:Phagwa is a popular Hindu spring festival\, celebrated to mark the beginning of Spring on the last full moon day of the lunar month Phalguna (February/March).  In Suriname\, Holi Phagwa is a festival of color.  It is customary to wear old white clothes on this day; be prepared to get them dirty and join in the holipowder throwing festivities.  In India\, the day is in memory of Prahalad. Demoness Holika\, sister of Hiranyakashipu\, carried him into the fire. Holika was burnt but Prahalad escaped without any injuriesbecause he was a staunch devotee of Lord Vishnu.
URL:https://surinameinsider.com/event/holi-phagwa-national-holiday/
END:VEVENT
BEGIN:VEVENT
DTSTART;TZID=America/New_York:20120303T073000
DTEND;TZID=America/New_York:20120303T083000
DTSTAMP:20260419T225422
CREATED:20120222T170707Z
LAST-MODIFIED:20161017T021739Z
UID:249-1330759800-1330763400@surinameinsider.com
SUMMARY:Suriname on the Discovery Channel
DESCRIPTION:The airdate and time for the program “Suriname-Hidden Opportunities”\, has been finally confirmed. This will now be featured on the Discovery Network in 50 states of the USA and reaches about 100 million house holds The show was featured on Saturday\, March 3\, 2012 at 7:30 am \n \nGLTV – Suriname: Hidden Opportunities Trailer.mov\nwww.youtube.com
URL:https://surinameinsider.com/event/suriname-on-the-discovery-channel/
END:VEVENT
BEGIN:VEVENT
DTSTART;TZID=America/New_York:20120302T200000
DTEND;TZID=America/New_York:20120303T020059
DTSTAMP:20260419T225422
CREATED:20120301T162312Z
LAST-MODIFIED:20120301T162748Z
UID:439-1330718400-1330740059@surinameinsider.com
SUMMARY:Joe to perform in Suriname
DESCRIPTION:Joe\, American signer-songwriter\, is scheduled to perform at the Anthony Neste Stadium on the night of March\, 2.  This is the artist’s first visit to Suriname.  He is staying at the Courtyard Marriott Hotel.  Tickets are available at  certian cambios and  at the Hermitage Mall cambio.
URL:https://surinameinsider.com/event/joe-to-perform-in-suriname/
END:VEVENT
BEGIN:VEVENT
DTSTART;TZID=America/New_York:20120302T160000
DTEND;TZID=America/New_York:20120302T180059
DTSTAMP:20260419T225422
CREATED:20120227T123640Z
LAST-MODIFIED:20120227T123640Z
UID:359-1330704000-1330711259@surinameinsider.com
SUMMARY:Subway Pre-Opening
DESCRIPTION:Be there to welcome the first Subway Restaurant in Suriname! The main attraction will be Zumbathon by B-Fit with music from some of the best local D.J’s.  Be there on time to receive a free giveaway. \nPlace: TBL Cinemas Complex – Unit 4 \nFestivities start at 16.00 hours.
URL:https://surinameinsider.com/event/subway-pre-opening/
LOCATION:TBL Cinemas Complex – Unit 4\, Paramaribo \, Suriname
END:VEVENT
BEGIN:VEVENT
DTSTART;VALUE=DATE:20120225
DTEND;VALUE=DATE:20120226
DTSTAMP:20260419T225422
CREATED:20120222T171217Z
LAST-MODIFIED:20120223T001441Z
UID:250-1330128000-1330214399@surinameinsider.com
SUMMARY:Day of Liberation and Renewal* National Holiday
DESCRIPTION:The Council of Ministers in Suriname\, declared February 25th\, the day of the Revolution (1980) a national holiday as of 2011.  February 25th was a public holiday from 1981 to 1987.  On this day in 1980\, a group of 16 junior National Army officers\, including the current President\, Desi Bouterse\, overthrew the then government of Suriname.  Check the newspapers for events taking place in downtown Paramaribo to celebrate this controversial public holiday.
URL:https://surinameinsider.com/event/day-of-liberation-and-renewal/
END:VEVENT
BEGIN:VEVENT
DTSTART;VALUE=DATE:20120220
DTEND;VALUE=DATE:20120222
DTSTAMP:20260419T225422
CREATED:20120214T212749Z
LAST-MODIFIED:20120214T212749Z
UID:217-1329696000-1329868799@surinameinsider.com
SUMMARY:Carnival (Brazil)
DESCRIPTION:
URL:https://surinameinsider.com/event/carnival-brazil/
CATEGORIES:Holiday
END:VEVENT
END:VCALENDAR