BEGIN:VCALENDAR
VERSION:2.0
PRODID:-//Suriname Insider - ECPv6.15.20//NONSGML v1.0//EN
CALSCALE:GREGORIAN
METHOD:PUBLISH
X-ORIGINAL-URL:https://surinameinsider.com
X-WR-CALDESC:Events for Suriname Insider
REFRESH-INTERVAL;VALUE=DURATION:PT1H
X-Robots-Tag:noindex
X-PUBLISHED-TTL:PT1H
BEGIN:VTIMEZONE
TZID:America/New_York
BEGIN:DAYLIGHT
TZOFFSETFROM:-0500
TZOFFSETTO:-0400
TZNAME:EDT
DTSTART:20110313T070000
END:DAYLIGHT
BEGIN:STANDARD
TZOFFSETFROM:-0400
TZOFFSETTO:-0500
TZNAME:EST
DTSTART:20111106T060000
END:STANDARD
BEGIN:DAYLIGHT
TZOFFSETFROM:-0500
TZOFFSETTO:-0400
TZNAME:EDT
DTSTART:20120311T070000
END:DAYLIGHT
BEGIN:STANDARD
TZOFFSETFROM:-0400
TZOFFSETTO:-0500
TZNAME:EST
DTSTART:20121104T060000
END:STANDARD
BEGIN:DAYLIGHT
TZOFFSETFROM:-0500
TZOFFSETTO:-0400
TZNAME:EDT
DTSTART:20130310T070000
END:DAYLIGHT
BEGIN:STANDARD
TZOFFSETFROM:-0400
TZOFFSETTO:-0500
TZNAME:EST
DTSTART:20131103T060000
END:STANDARD
END:VTIMEZONE
BEGIN:VEVENT
DTSTART;VALUE=DATE:20120225
DTEND;VALUE=DATE:20120226
DTSTAMP:20260420T023116
CREATED:20120222T171217Z
LAST-MODIFIED:20120223T001441Z
UID:250-1330128000-1330214399@surinameinsider.com
SUMMARY:Day of Liberation and Renewal* National Holiday
DESCRIPTION:The Council of Ministers in Suriname\, declared February 25th\, the day of the Revolution (1980) a national holiday as of 2011.  February 25th was a public holiday from 1981 to 1987.  On this day in 1980\, a group of 16 junior National Army officers\, including the current President\, Desi Bouterse\, overthrew the then government of Suriname.  Check the newspapers for events taking place in downtown Paramaribo to celebrate this controversial public holiday.
URL:https://surinameinsider.com/event/day-of-liberation-and-renewal/
END:VEVENT
BEGIN:VEVENT
DTSTART;VALUE=DATE:20120220
DTEND;VALUE=DATE:20120222
DTSTAMP:20260420T023116
CREATED:20120214T212749Z
LAST-MODIFIED:20120214T212749Z
UID:217-1329696000-1329868799@surinameinsider.com
SUMMARY:Carnival (Brazil)
DESCRIPTION:
URL:https://surinameinsider.com/event/carnival-brazil/
CATEGORIES:Holiday
END:VEVENT
END:VCALENDAR